BEGIN:VCALENDAR
VERSION:2.0
PRODID:-//MAPES - ECPv6.15.20//NONSGML v1.0//EN
CALSCALE:GREGORIAN
METHOD:PUBLISH
X-WR-CALNAME:MAPES
X-ORIGINAL-URL:https://www.mapes-pdl.fr
X-WR-CALDESC:Évènements pour MAPES
REFRESH-INTERVAL;VALUE=DURATION:PT1H
X-Robots-Tag:noindex
X-PUBLISHED-TTL:PT1H
BEGIN:VTIMEZONE
TZID:Europe/Paris
BEGIN:DAYLIGHT
TZOFFSETFROM:+0100
TZOFFSETTO:+0200
TZNAME:CEST
DTSTART:20210328T010000
END:DAYLIGHT
BEGIN:STANDARD
TZOFFSETFROM:+0200
TZOFFSETTO:+0100
TZNAME:CET
DTSTART:20211031T010000
END:STANDARD
BEGIN:DAYLIGHT
TZOFFSETFROM:+0100
TZOFFSETTO:+0200
TZNAME:CEST
DTSTART:20220327T010000
END:DAYLIGHT
BEGIN:STANDARD
TZOFFSETFROM:+0200
TZOFFSETTO:+0100
TZNAME:CET
DTSTART:20221030T010000
END:STANDARD
BEGIN:DAYLIGHT
TZOFFSETFROM:+0100
TZOFFSETTO:+0200
TZNAME:CEST
DTSTART:20230326T010000
END:DAYLIGHT
BEGIN:STANDARD
TZOFFSETFROM:+0200
TZOFFSETTO:+0100
TZNAME:CET
DTSTART:20231029T010000
END:STANDARD
BEGIN:DAYLIGHT
TZOFFSETFROM:+0100
TZOFFSETTO:+0200
TZNAME:CEST
DTSTART:20240331T010000
END:DAYLIGHT
BEGIN:STANDARD
TZOFFSETFROM:+0200
TZOFFSETTO:+0100
TZNAME:CET
DTSTART:20241027T010000
END:STANDARD
BEGIN:DAYLIGHT
TZOFFSETFROM:+0100
TZOFFSETTO:+0200
TZNAME:CEST
DTSTART:20250330T010000
END:DAYLIGHT
BEGIN:STANDARD
TZOFFSETFROM:+0200
TZOFFSETTO:+0100
TZNAME:CET
DTSTART:20251026T010000
END:STANDARD
BEGIN:DAYLIGHT
TZOFFSETFROM:+0100
TZOFFSETTO:+0200
TZNAME:CEST
DTSTART:20260329T010000
END:DAYLIGHT
BEGIN:STANDARD
TZOFFSETFROM:+0200
TZOFFSETTO:+0100
TZNAME:CET
DTSTART:20261025T010000
END:STANDARD
END:VTIMEZONE
BEGIN:VEVENT
DTSTART;VALUE=DATE:20250306
DTEND;VALUE=DATE:20250307
DTSTAMP:20260423T104928
CREATED:20241024T120310Z
LAST-MODIFIED:20241024T120310Z
UID:10000172-1741219200-1741305599@www.mapes-pdl.fr
SUMMARY:Journée régionale - Soins Médicaux de Réadaptation
DESCRIPTION:La MAPES et l’ARS Pays de la Loire organisent une journée régionale à destination des établissements de la région Pays de la Loire qui disposent d’une autorisation « SMR ». \nAu programme\, des séances plénières et des conférences en plus petits groupes sur les thématiques du moment ! \nLes inscriptions seront ouvertes en début d’année. D’ici là\, pensez à bloquer la date dans votre agenda 📅 \nTélécharger le flyer \nÉvénement gratuit
URL:https://www.mapes-pdl.fr/agenda/journee-regionale-soins-medicaux-de-readaptation-2/
LOCATION:Terra botanica\, Route d'Epinard\, Angers\, 49000\, France
CATEGORIES:Evènements MAPES
ATTACH;FMTTYPE=image/png:https://www.mapes-pdl.fr/wp-content/uploads/2024/04/nuage-ssr-smr_2.png
GEO:47.497024;-0.570079
X-APPLE-STRUCTURED-LOCATION;VALUE=URI;X-ADDRESS=Terra botanica Route d'Epinard Angers 49000 France;X-APPLE-RADIUS=500;X-TITLE=Route d'Epinard:geo:-0.570079,47.497024
END:VEVENT
BEGIN:VEVENT
DTSTART;VALUE=DATE:20241105
DTEND;VALUE=DATE:20241106
DTSTAMP:20260423T104928
CREATED:20240409T115913Z
LAST-MODIFIED:20241024T120402Z
UID:10000124-1730764800-1730851199@www.mapes-pdl.fr
SUMMARY:Journée régionale - Soins Médicaux de Réadaptation /!\ reportée mars 2025
DESCRIPTION:🛑 Evénement reporté au 1er trimestre 2025 ! \nLa MAPES et l’ARS Pays de la Loire organisent une journée régionale à destination des établissements de la région Pays de la Loire qui disposent d’une autorisation « SMR ». \nAu programme\, des séances plénières et des conférences en plus petits groupes sur les thématiques du moment ! \nPensez à bloquer la date dans votre agenda 📅 \nTélécharger le flyer \nÉvénement gratuit
URL:https://www.mapes-pdl.fr/agenda/journee-regionale-smr-2025/
LOCATION:Terra botanica\, Route d'Epinard\, Angers\, 49000\, France
CATEGORIES:Evènements MAPES
ATTACH;FMTTYPE=image/png:https://www.mapes-pdl.fr/wp-content/uploads/2024/04/nuage-ssr-smr_2.png
GEO:47.497024;-0.570079
X-APPLE-STRUCTURED-LOCATION;VALUE=URI;X-ADDRESS=Terra botanica Route d'Epinard Angers 49000 France;X-APPLE-RADIUS=500;X-TITLE=Route d'Epinard:geo:-0.570079,47.497024
END:VEVENT
BEGIN:VEVENT
DTSTART;VALUE=DATE:20231012
DTEND;VALUE=DATE:20231013
DTSTAMP:20260423T104928
CREATED:20230214T154500Z
LAST-MODIFIED:20230908T134814Z
UID:10000001-1697068800-1697155199@www.mapes-pdl.fr
SUMMARY:Journée régionale - Soins Médicaux de Réadaptation
DESCRIPTION:La MAPES et l’ARS organisent une journée régionale à destination des établissements de la région Pays de la Loire qui disposent d’une autorisation « SMR ». \nLa réforme du financement et celle des autorisations seront au cœur de cette journée. \nAu programme\, des séances plénières et des conférences en plus petits groupes ! \nPour le programme complet\, c’est ici   et pour s’inscrire\, c’est là  \n  \nÉvénement gratuit
URL:https://www.mapes-pdl.fr/agenda/journee-regionale-soins-medicaux-de-readaptation/
LOCATION:Terra botanica\, Route d'Epinard\, Angers\, 49000\, France
CATEGORIES:Evènements MAPES
ATTACH;FMTTYPE=image/jpeg:https://www.mapes-pdl.fr/wp-content/uploads/2023/02/ssr-smr_2.jpg
GEO:47.497024;-0.570079
X-APPLE-STRUCTURED-LOCATION;VALUE=URI;X-ADDRESS=Terra botanica Route d'Epinard Angers 49000 France;X-APPLE-RADIUS=500;X-TITLE=Route d'Epinard:geo:-0.570079,47.497024
END:VEVENT
BEGIN:VEVENT
DTSTART;VALUE=DATE:20230112
DTEND;VALUE=DATE:20230113
DTSTAMP:20260423T104928
CREATED:20221130T093411Z
LAST-MODIFIED:20221206T135452Z
UID:10000002-1673481600-1673567999@www.mapes-pdl.fr
SUMMARY:Journée régionale  : Stratégie immobilière des investissements
DESCRIPTION:Découvrez le programme et inscrivez-vous ! \n 
URL:https://www.mapes-pdl.fr/agenda/journee-regionale-strategie-immobiliere-des-investissements/
LOCATION:Terra botanica\, Route d'Epinard\, Angers\, 49000\, France
GEO:47.497024;-0.570079
X-APPLE-STRUCTURED-LOCATION;VALUE=URI;X-ADDRESS=Terra botanica Route d'Epinard Angers 49000 France;X-APPLE-RADIUS=500;X-TITLE=Route d'Epinard:geo:-0.570079,47.497024
END:VEVENT
BEGIN:VEVENT
DTSTART;VALUE=DATE:20220929
DTEND;VALUE=DATE:20220930
DTSTAMP:20260423T104928
CREATED:20220505T085820Z
LAST-MODIFIED:20220826T125230Z
UID:10000041-1664409600-1664495999@www.mapes-pdl.fr
SUMMARY:Journée régionale - Activités de Soins de Suite et de Réadaptation
DESCRIPTION:La MAPES et l’ARS organisent une journée régionale à destination des établissements de la région Pays de la Loire qui disposent d’une autorisation « SSR ». \nLa réforme du financement et celle des autorisations seront au cœur de cette journée\, mais d’autres thèmes seront aussi abordés. \nVous pouvez télécharger le programme de cette journée ici. \nLa présence de la DGOS à cet événement est confirmée. \n 
URL:https://www.mapes-pdl.fr/agenda/journee-regionale-activites-de-soins-de-suite-et-de-readaptation/
LOCATION:Terra botanica\, Route d'Epinard\, Angers\, 49000\, France
CATEGORIES:Evènements MAPES
ATTACH;FMTTYPE=image/png:https://www.mapes-pdl.fr/wp-content/uploads/2021/07/ars-mapes-e1627391693556.png
GEO:47.497024;-0.570079
X-APPLE-STRUCTURED-LOCATION;VALUE=URI;X-ADDRESS=Terra botanica Route d'Epinard Angers 49000 France;X-APPLE-RADIUS=500;X-TITLE=Route d'Epinard:geo:-0.570079,47.497024
END:VEVENT
END:VCALENDAR