BEGIN:VCALENDAR
VERSION:2.0
PRODID:-//MAPES - ECPv6.15.20//NONSGML v1.0//EN
CALSCALE:GREGORIAN
METHOD:PUBLISH
X-WR-CALNAME:MAPES
X-ORIGINAL-URL:https://www.mapes-pdl.fr
X-WR-CALDESC:Évènements pour MAPES
REFRESH-INTERVAL;VALUE=DURATION:PT1H
X-Robots-Tag:noindex
X-PUBLISHED-TTL:PT1H
BEGIN:VTIMEZONE
TZID:Europe/Paris
BEGIN:DAYLIGHT
TZOFFSETFROM:+0100
TZOFFSETTO:+0200
TZNAME:CEST
DTSTART:20200329T010000
END:DAYLIGHT
BEGIN:STANDARD
TZOFFSETFROM:+0200
TZOFFSETTO:+0100
TZNAME:CET
DTSTART:20201025T010000
END:STANDARD
BEGIN:DAYLIGHT
TZOFFSETFROM:+0100
TZOFFSETTO:+0200
TZNAME:CEST
DTSTART:20210328T010000
END:DAYLIGHT
BEGIN:STANDARD
TZOFFSETFROM:+0200
TZOFFSETTO:+0100
TZNAME:CET
DTSTART:20211031T010000
END:STANDARD
BEGIN:DAYLIGHT
TZOFFSETFROM:+0100
TZOFFSETTO:+0200
TZNAME:CEST
DTSTART:20220327T010000
END:DAYLIGHT
BEGIN:STANDARD
TZOFFSETFROM:+0200
TZOFFSETTO:+0100
TZNAME:CET
DTSTART:20221030T010000
END:STANDARD
BEGIN:DAYLIGHT
TZOFFSETFROM:+0100
TZOFFSETTO:+0200
TZNAME:CEST
DTSTART:20230326T010000
END:DAYLIGHT
BEGIN:STANDARD
TZOFFSETFROM:+0200
TZOFFSETTO:+0100
TZNAME:CET
DTSTART:20231029T010000
END:STANDARD
BEGIN:DAYLIGHT
TZOFFSETFROM:+0100
TZOFFSETTO:+0200
TZNAME:CEST
DTSTART:20240331T010000
END:DAYLIGHT
BEGIN:STANDARD
TZOFFSETFROM:+0200
TZOFFSETTO:+0100
TZNAME:CET
DTSTART:20241027T010000
END:STANDARD
END:VTIMEZONE
BEGIN:VEVENT
DTSTART;VALUE=DATE:20230316
DTEND;VALUE=DATE:20230317
DTSTAMP:20260423T134034
CREATED:20230224T102517Z
LAST-MODIFIED:20230224T102538Z
UID:10000018-1678924800-1679011199@www.mapes-pdl.fr
SUMMARY:Formation EPRD pour les ESMS - NANTES
DESCRIPTION:Formation dédiée aux ESMS \n???? session complète
URL:https://www.mapes-pdl.fr/agenda/formation-eprd-pour-les-esms/
LOCATION:CHU de Nantes – Deurbroucq\, 5\, allée de l'Ile Gloriette\, NANTES\, 44000\, France
CATEGORIES:Evènements MAPES
END:VEVENT
BEGIN:VEVENT
DTSTART;VALUE=DATE:20210618
DTEND;VALUE=DATE:20210619
DTSTAMP:20260423T134034
CREATED:20210319T102655Z
LAST-MODIFIED:20210407T115224Z
UID:10000060-1623974400-1624060799@www.mapes-pdl.fr
SUMMARY:Formation "Plan de trésorerie en ES et ESMS" - J2 (3/3)
DESCRIPTION:Formation à l’élaboration et au suivi d’un plan de trésorerie dans le secteur sanitaire et médico-social – groupe 3 / jour 2
URL:https://www.mapes-pdl.fr/agenda/formation-plan-de-tresorerie-en-es-et-esms-j2-3-3/
LOCATION:CHU de Nantes – Deurbroucq\, 5\, allée de l'Ile Gloriette\, NANTES\, 44000\, France
CATEGORIES:Evènements MAPES
END:VEVENT
BEGIN:VEVENT
DTSTART;VALUE=DATE:20210528
DTEND;VALUE=DATE:20210529
DTSTAMP:20260423T134034
CREATED:20210319T102214Z
LAST-MODIFIED:20210407T115256Z
UID:10000065-1622160000-1622246399@www.mapes-pdl.fr
SUMMARY:Formation "Plan de trésorerie en ES et ESMS" - J1 (3/3)
DESCRIPTION:Formation à l’élaboration et au suivi d’un plan de trésorerie dans le secteur sanitaire et médico-social – groupe 3 / jour 1
URL:https://www.mapes-pdl.fr/agenda/formation-plan-de-tresorerie-en-es-et-esms-3/
LOCATION:CHU de Nantes – Deurbroucq\, 5\, allée de l'Ile Gloriette\, NANTES\, 44000\, France
CATEGORIES:Evènements MAPES
END:VEVENT
BEGIN:VEVENT
DTSTART;VALUE=DATE:20210512
DTEND;VALUE=DATE:20210513
DTSTAMP:20260423T134034
CREATED:20210226T102245Z
LAST-MODIFIED:20210407T115328Z
UID:10000007-1620777600-1620863999@www.mapes-pdl.fr
SUMMARY:Formation "Gestion de trésorerie en ESMS" - 4/4
DESCRIPTION:Formation à la gestion de trésorerie en ESMS – groupe 4
URL:https://www.mapes-pdl.fr/agenda/formation-gestion-de-tresorerie-en-esms-4-4/
LOCATION:CHU de Nantes – Deurbroucq\, 5\, allée de l'Ile Gloriette\, NANTES\, 44000\, France
CATEGORIES:Evènements MAPES
END:VEVENT
BEGIN:VEVENT
DTSTART;VALUE=DATE:20210511
DTEND;VALUE=DATE:20210512
DTSTAMP:20260423T134034
CREATED:20210226T102120Z
LAST-MODIFIED:20210407T115336Z
UID:10000070-1620691200-1620777599@www.mapes-pdl.fr
SUMMARY:Formation "Gestion de trésorerie en ESMS" - 3/4
DESCRIPTION:Formation à la gestion de trésorerie en ESMS – groupe 3
URL:https://www.mapes-pdl.fr/agenda/formation-gestion-de-tresorerie-en-esms-3-4/
LOCATION:CHU de Nantes – Deurbroucq\, 5\, allée de l'Ile Gloriette\, NANTES\, 44000\, France
CATEGORIES:Evènements MAPES
END:VEVENT
END:VCALENDAR