BEGIN:VCALENDAR
VERSION:2.0
PRODID:-//MAPES - ECPv6.15.20//NONSGML v1.0//EN
CALSCALE:GREGORIAN
METHOD:PUBLISH
X-WR-CALNAME:MAPES
X-ORIGINAL-URL:https://www.mapes-pdl.fr
X-WR-CALDESC:Évènements pour MAPES
REFRESH-INTERVAL;VALUE=DURATION:PT1H
X-Robots-Tag:noindex
X-PUBLISHED-TTL:PT1H
BEGIN:VTIMEZONE
TZID:Europe/Paris
BEGIN:DAYLIGHT
TZOFFSETFROM:+0100
TZOFFSETTO:+0200
TZNAME:CEST
DTSTART:20210328T010000
END:DAYLIGHT
BEGIN:STANDARD
TZOFFSETFROM:+0200
TZOFFSETTO:+0100
TZNAME:CET
DTSTART:20211031T010000
END:STANDARD
BEGIN:DAYLIGHT
TZOFFSETFROM:+0100
TZOFFSETTO:+0200
TZNAME:CEST
DTSTART:20220327T010000
END:DAYLIGHT
BEGIN:STANDARD
TZOFFSETFROM:+0200
TZOFFSETTO:+0100
TZNAME:CET
DTSTART:20221030T010000
END:STANDARD
BEGIN:DAYLIGHT
TZOFFSETFROM:+0100
TZOFFSETTO:+0200
TZNAME:CEST
DTSTART:20230326T010000
END:DAYLIGHT
BEGIN:STANDARD
TZOFFSETFROM:+0200
TZOFFSETTO:+0100
TZNAME:CET
DTSTART:20231029T010000
END:STANDARD
BEGIN:DAYLIGHT
TZOFFSETFROM:+0100
TZOFFSETTO:+0200
TZNAME:CEST
DTSTART:20240331T010000
END:DAYLIGHT
BEGIN:STANDARD
TZOFFSETFROM:+0200
TZOFFSETTO:+0100
TZNAME:CET
DTSTART:20241027T010000
END:STANDARD
BEGIN:DAYLIGHT
TZOFFSETFROM:+0100
TZOFFSETTO:+0200
TZNAME:CEST
DTSTART:20250330T010000
END:DAYLIGHT
BEGIN:STANDARD
TZOFFSETFROM:+0200
TZOFFSETTO:+0100
TZNAME:CET
DTSTART:20251026T010000
END:STANDARD
BEGIN:DAYLIGHT
TZOFFSETFROM:+0100
TZOFFSETTO:+0200
TZNAME:CEST
DTSTART:20260329T010000
END:DAYLIGHT
BEGIN:STANDARD
TZOFFSETFROM:+0200
TZOFFSETTO:+0100
TZNAME:CET
DTSTART:20261025T010000
END:STANDARD
END:VTIMEZONE
BEGIN:VEVENT
DTSTART;TZID=Europe/Paris:20250425T090000
DTEND;TZID=Europe/Paris:20250425T130000
DTSTAMP:20260423T133520
CREATED:20250324T153638Z
LAST-MODIFIED:20250324T155334Z
UID:10000173-1745571600-1745586000@www.mapes-pdl.fr
SUMMARY:ETE - Matinée "Réduire l'inconfort thermique en été dans les bâtiments de santé"
DESCRIPTION:Vendredi 25 Avril 2025 de 9h à 13h – Tiers lieu l’Esviere à Angers\nLes canicules vont être de plus en plus présentes en période estivale dans notre région avec une influence directe sur le comportement des bâtiments et le confort des usagers. Nous vous proposons une matinée sur le sujet pour améliorer cet inconfort avec des solutions concrètes : des solutions « passives et semi-passives » peu couteuses\, des bonnes pratiques et des investissements plus importants. Voici le programme de la matinée : \n\nScénario 2050 : L’inconfort dans les bâtiments de santé en période estivale \nStores et rideaux\, des alliés efficaces \nVentilateurs une solution peu consommatrice et efficace \nVégétaliser pour rafraichir\nBonnes pratiques et éco-gestes en été\nRetours d’expérience d’établissements\nVisite du lieu d’accueil – Tiers-lieu l’Esvière \nRepas sur place à vos frais\n\nINSCRIPTION EN CLIQUANT ICI
URL:https://www.mapes-pdl.fr/agenda/ete-matinee-reduire-linconfort-thermique-en-ete-dans-les-batiments-de-sante/
LOCATION:Angers\, ANGERS\, France
CATEGORIES:Evènements MAPES
ATTACH;FMTTYPE=image/png:https://www.mapes-pdl.fr/wp-content/uploads/2025/03/Conference-Lutter-contre-linconfort-thermique-en-periode-de-canicule.png
END:VEVENT
BEGIN:VEVENT
DTSTART;TZID=Europe/Paris:20220614T090000
DTEND;TZID=Europe/Paris:20220614T170000
DTSTAMP:20260423T133520
CREATED:20220316T151141Z
LAST-MODIFIED:20220318T153847Z
UID:10000056-1655197200-1655226000@www.mapes-pdl.fr
SUMMARY:Journée régionale Efficacité et Transition Energétique - le mardi 14 Juin à Angers
DESCRIPTION:Une journée dédiée à la transition énergétique des établissements de santé ! \n* Evènement réservé aux établissements de santé et partenaires * \nAu programme de la journée \n\n1 conférence de lancement  » Contexte régional et actualité réglementaire du secteur de la santé – Retour sur les 1er accompagnements ETE »\n8 ateliers thématiques pour engager votre transition énergétique: retours d’expérience\, parole d’experts\, financement de vos projets\, etc.\n3 groupes de travail\, profiter de cette journée pour échanger avec vos pairs et construire ensemble vos projets de maitrise de l’énergie !\n1 Fresque du climat pour comprendre les enjeux du changement climatique en quelques minutes avec la version Quizz de la Fresque du climat\n1 conférence de clôture « Décarboner le secteur de la santé\, les conclusions du rapport de The Shift Project »\n\nPROGRAMME COMPLET ET INSCRIPTION ICI
URL:https://www.mapes-pdl.fr/agenda/journee-regionale-efficacite-et-transition-energetique-le-mardi-14-juin-a-angers/
LOCATION:Angers\, ANGERS\, France
CATEGORIES:Evènements MAPES
END:VEVENT
END:VCALENDAR