BEGIN:VCALENDAR
VERSION:2.0
PRODID:-//MAPES - ECPv6.15.20//NONSGML v1.0//EN
CALSCALE:GREGORIAN
METHOD:PUBLISH
X-ORIGINAL-URL:https://www.mapes-pdl.fr
X-WR-CALDESC:Évènements pour MAPES
REFRESH-INTERVAL;VALUE=DURATION:PT1H
X-Robots-Tag:noindex
X-PUBLISHED-TTL:PT1H
BEGIN:VTIMEZONE
TZID:Europe/Paris
BEGIN:DAYLIGHT
TZOFFSETFROM:+0100
TZOFFSETTO:+0200
TZNAME:CEST
DTSTART:20240331T010000
END:DAYLIGHT
BEGIN:STANDARD
TZOFFSETFROM:+0200
TZOFFSETTO:+0100
TZNAME:CET
DTSTART:20241027T010000
END:STANDARD
BEGIN:DAYLIGHT
TZOFFSETFROM:+0100
TZOFFSETTO:+0200
TZNAME:CEST
DTSTART:20250330T010000
END:DAYLIGHT
BEGIN:STANDARD
TZOFFSETFROM:+0200
TZOFFSETTO:+0100
TZNAME:CET
DTSTART:20251026T010000
END:STANDARD
BEGIN:DAYLIGHT
TZOFFSETFROM:+0100
TZOFFSETTO:+0200
TZNAME:CEST
DTSTART:20260329T010000
END:DAYLIGHT
BEGIN:STANDARD
TZOFFSETFROM:+0200
TZOFFSETTO:+0100
TZNAME:CET
DTSTART:20261025T010000
END:STANDARD
END:VTIMEZONE
BEGIN:VEVENT
DTSTART;VALUE=DATE:20250306
DTEND;VALUE=DATE:20250307
DTSTAMP:20260423T074451
CREATED:20241024T120310Z
LAST-MODIFIED:20241024T120310Z
UID:10000172-1741219200-1741305599@www.mapes-pdl.fr
SUMMARY:Journée régionale - Soins Médicaux de Réadaptation
DESCRIPTION:La MAPES et l’ARS Pays de la Loire organisent une journée régionale à destination des établissements de la région Pays de la Loire qui disposent d’une autorisation « SMR ». \nAu programme\, des séances plénières et des conférences en plus petits groupes sur les thématiques du moment ! \nLes inscriptions seront ouvertes en début d’année. D’ici là\, pensez à bloquer la date dans votre agenda 📅 \nTélécharger le flyer \nÉvénement gratuit
URL:https://www.mapes-pdl.fr/agenda/journee-regionale-soins-medicaux-de-readaptation-2/
LOCATION:Terra botanica\, Route d'Epinard\, Angers\, 49000\, France
CATEGORIES:Evènements MAPES
ATTACH;FMTTYPE=image/png:https://www.mapes-pdl.fr/wp-content/uploads/2024/04/nuage-ssr-smr_2.png
GEO:47.497024;-0.570079
X-APPLE-STRUCTURED-LOCATION;VALUE=URI;X-ADDRESS=Terra botanica Route d'Epinard Angers 49000 France;X-APPLE-RADIUS=500;X-TITLE=Route d'Epinard:geo:-0.570079,47.497024
END:VEVENT
END:VCALENDAR