BEGIN:VCALENDAR
VERSION:2.0
PRODID:-//MAPES - ECPv6.15.20//NONSGML v1.0//EN
CALSCALE:GREGORIAN
METHOD:PUBLISH
X-WR-CALNAME:MAPES
X-ORIGINAL-URL:https://www.mapes-pdl.fr
X-WR-CALDESC:Évènements pour MAPES
REFRESH-INTERVAL;VALUE=DURATION:PT1H
X-Robots-Tag:noindex
X-PUBLISHED-TTL:PT1H
BEGIN:VTIMEZONE
TZID:Europe/Paris
BEGIN:DAYLIGHT
TZOFFSETFROM:+0100
TZOFFSETTO:+0200
TZNAME:CEST
DTSTART:20230326T010000
END:DAYLIGHT
BEGIN:STANDARD
TZOFFSETFROM:+0200
TZOFFSETTO:+0100
TZNAME:CET
DTSTART:20231029T010000
END:STANDARD
BEGIN:DAYLIGHT
TZOFFSETFROM:+0100
TZOFFSETTO:+0200
TZNAME:CEST
DTSTART:20240331T010000
END:DAYLIGHT
BEGIN:STANDARD
TZOFFSETFROM:+0200
TZOFFSETTO:+0100
TZNAME:CET
DTSTART:20241027T010000
END:STANDARD
BEGIN:DAYLIGHT
TZOFFSETFROM:+0100
TZOFFSETTO:+0200
TZNAME:CEST
DTSTART:20250330T010000
END:DAYLIGHT
BEGIN:STANDARD
TZOFFSETFROM:+0200
TZOFFSETTO:+0100
TZNAME:CET
DTSTART:20251026T010000
END:STANDARD
END:VTIMEZONE
BEGIN:VEVENT
DTSTART;VALUE=DATE:20240116
DTEND;VALUE=DATE:20240117
DTSTAMP:20260424T141507
CREATED:20240122T104528Z
LAST-MODIFIED:20240122T110509Z
UID:10000109-1705363200-1705449599@www.mapes-pdl.fr
SUMMARY:EDD - Lancement 5ème promotion "Préparation à une labellisation RSE"
DESCRIPTION:5 nouvelles structures intègrent le dispositif de formation et d’accompagnement RSE qui s’échelonne de janvier à juin 2024 \nAgenda : \n16.01.2024 : Formation J1\n23.01.2024 : Formation J2\n20.01.2024 : Atelier 1\n19.03.2024 : Atelier 2\n16.04.2024 : Atelier 3\n21.05.2024 : Atelier 4\n18.06.2024 : Atelier 5 et bilan \n  \nPossible de candidater à une future promotion : en CLIQUANT ICI
URL:https://www.mapes-pdl.fr/agenda/edd-lancement-5eme-promotion-preparation-a-une-labellisation-rse/
LOCATION:Centre Saint Jean\, 36 rue Barra\, Angers\, 49100\, France
CATEGORIES:Evènements MAPES
END:VEVENT
END:VCALENDAR