BEGIN:VCALENDAR
VERSION:2.0
PRODID:-//MAPES - ECPv6.15.20//NONSGML v1.0//EN
CALSCALE:GREGORIAN
METHOD:PUBLISH
X-WR-CALNAME:MAPES
X-ORIGINAL-URL:https://www.mapes-pdl.fr
X-WR-CALDESC:Évènements pour MAPES
REFRESH-INTERVAL;VALUE=DURATION:PT1H
X-Robots-Tag:noindex
X-PUBLISHED-TTL:PT1H
BEGIN:VTIMEZONE
TZID:Europe/Paris
BEGIN:DAYLIGHT
TZOFFSETFROM:+0100
TZOFFSETTO:+0200
TZNAME:CEST
DTSTART:20210328T010000
END:DAYLIGHT
BEGIN:STANDARD
TZOFFSETFROM:+0200
TZOFFSETTO:+0100
TZNAME:CET
DTSTART:20211031T010000
END:STANDARD
BEGIN:DAYLIGHT
TZOFFSETFROM:+0100
TZOFFSETTO:+0200
TZNAME:CEST
DTSTART:20220327T010000
END:DAYLIGHT
BEGIN:STANDARD
TZOFFSETFROM:+0200
TZOFFSETTO:+0100
TZNAME:CET
DTSTART:20221030T010000
END:STANDARD
BEGIN:DAYLIGHT
TZOFFSETFROM:+0100
TZOFFSETTO:+0200
TZNAME:CEST
DTSTART:20230326T010000
END:DAYLIGHT
BEGIN:STANDARD
TZOFFSETFROM:+0200
TZOFFSETTO:+0100
TZNAME:CET
DTSTART:20231029T010000
END:STANDARD
END:VTIMEZONE
BEGIN:VEVENT
DTSTART;VALUE=DATE:20220929
DTEND;VALUE=DATE:20220930
DTSTAMP:20260425T023248
CREATED:20220505T085820Z
LAST-MODIFIED:20220826T125230Z
UID:10000041-1664409600-1664495999@www.mapes-pdl.fr
SUMMARY:Journée régionale - Activités de Soins de Suite et de Réadaptation
DESCRIPTION:La MAPES et l’ARS organisent une journée régionale à destination des établissements de la région Pays de la Loire qui disposent d’une autorisation « SSR ». \nLa réforme du financement et celle des autorisations seront au cœur de cette journée\, mais d’autres thèmes seront aussi abordés. \nVous pouvez télécharger le programme de cette journée ici. \nLa présence de la DGOS à cet événement est confirmée. \n 
URL:https://www.mapes-pdl.fr/agenda/journee-regionale-activites-de-soins-de-suite-et-de-readaptation/
LOCATION:Terra botanica\, Route d'Epinard\, Angers\, 49000\, France
CATEGORIES:Evènements MAPES
ATTACH;FMTTYPE=image/png:https://www.mapes-pdl.fr/wp-content/uploads/2021/07/ars-mapes-e1627391693556.png
GEO:47.497024;-0.570079
X-APPLE-STRUCTURED-LOCATION;VALUE=URI;X-ADDRESS=Terra botanica Route d'Epinard Angers 49000 France;X-APPLE-RADIUS=500;X-TITLE=Route d'Epinard:geo:-0.570079,47.497024
END:VEVENT
END:VCALENDAR