BEGIN:VCALENDAR
VERSION:2.0
PRODID:-//MAPES - ECPv6.15.20//NONSGML v1.0//EN
CALSCALE:GREGORIAN
METHOD:PUBLISH
X-WR-CALNAME:MAPES
X-ORIGINAL-URL:https://www.mapes-pdl.fr
X-WR-CALDESC:Évènements pour MAPES
REFRESH-INTERVAL;VALUE=DURATION:PT1H
X-Robots-Tag:noindex
X-PUBLISHED-TTL:PT1H
BEGIN:VTIMEZONE
TZID:Europe/Paris
BEGIN:DAYLIGHT
TZOFFSETFROM:+0100
TZOFFSETTO:+0200
TZNAME:CEST
DTSTART:20230326T010000
END:DAYLIGHT
BEGIN:STANDARD
TZOFFSETFROM:+0200
TZOFFSETTO:+0100
TZNAME:CET
DTSTART:20231029T010000
END:STANDARD
BEGIN:DAYLIGHT
TZOFFSETFROM:+0100
TZOFFSETTO:+0200
TZNAME:CEST
DTSTART:20240331T010000
END:DAYLIGHT
BEGIN:STANDARD
TZOFFSETFROM:+0200
TZOFFSETTO:+0100
TZNAME:CET
DTSTART:20241027T010000
END:STANDARD
BEGIN:DAYLIGHT
TZOFFSETFROM:+0100
TZOFFSETTO:+0200
TZNAME:CEST
DTSTART:20250330T010000
END:DAYLIGHT
BEGIN:STANDARD
TZOFFSETFROM:+0200
TZOFFSETTO:+0100
TZNAME:CET
DTSTART:20251026T010000
END:STANDARD
END:VTIMEZONE
BEGIN:VEVENT
DTSTART;VALUE=DATE:20240130
DTEND;VALUE=DATE:20240131
DTSTAMP:20260423T090524
CREATED:20240122T111740Z
LAST-MODIFIED:20240122T111740Z
UID:10000110-1706572800-1706659199@www.mapes-pdl.fr
SUMMARY:EDD - Lancement 2ème promotion "Décarbonation"
DESCRIPTION:8 nouvelles structures intègrent le dispositif de formation et d’accompagnement collectif Décarbonation qui s’échelonne de janvier à décembre 2024 \nAgenda : \n\nmardi 30 janvier 2024 : FORMATION J1\nmercredi 31 janvier 2024 : FORMATION J2\nmardi 5 mars 2024 : ATELIER 1 (J3)\nmardi 11 juin 2024 : ATELIER 2 (J4)\nmardi 10 septembre 2024 : ATELIER 3 (J5)\nmardi 8 octobre 2024 : ATELIER 4 (J6)\njeudi 14 novembre 2024 : ATELIER 5 (J7)\nmardi 10 décembre 2024 : BILAN (J8)\n\nPossible de candidater à une future promotion : en CLIQUANT ICI \nRetrouvez en CLIQUANT ICI les retours de la première promotion 2023.
URL:https://www.mapes-pdl.fr/agenda/edd-lancement-2eme-promotion-decarbonation/
CATEGORIES:Evènements MAPES
END:VEVENT
END:VCALENDAR